BEGIN:VCALENDAR
VERSION:2.0
PRODID:-//Channel Focus Community - ECPv6.15.12.2//NONSGML v1.0//EN
CALSCALE:GREGORIAN
METHOD:PUBLISH
X-WR-CALNAME:Channel Focus Community
X-ORIGINAL-URL:https://channelfocuscommunity.net
X-WR-CALDESC:Events for Channel Focus Community
REFRESH-INTERVAL;VALUE=DURATION:PT1H
X-Robots-Tag:noindex
X-PUBLISHED-TTL:PT1H
BEGIN:VTIMEZONE
TZID:America/Los_Angeles
BEGIN:DAYLIGHT
TZOFFSETFROM:-0800
TZOFFSETTO:-0700
TZNAME:PDT
DTSTART:20240310T100000
END:DAYLIGHT
BEGIN:STANDARD
TZOFFSETFROM:-0700
TZOFFSETTO:-0800
TZNAME:PST
DTSTART:20241103T090000
END:STANDARD
BEGIN:DAYLIGHT
TZOFFSETFROM:-0800
TZOFFSETTO:-0700
TZNAME:PDT
DTSTART:20250309T100000
END:DAYLIGHT
BEGIN:STANDARD
TZOFFSETFROM:-0700
TZOFFSETTO:-0800
TZNAME:PST
DTSTART:20251102T090000
END:STANDARD
BEGIN:DAYLIGHT
TZOFFSETFROM:-0800
TZOFFSETTO:-0700
TZNAME:PDT
DTSTART:20260308T100000
END:DAYLIGHT
BEGIN:STANDARD
TZOFFSETFROM:-0700
TZOFFSETTO:-0800
TZNAME:PST
DTSTART:20261101T090000
END:STANDARD
END:VTIMEZONE
BEGIN:VTIMEZONE
TZID:UTC
BEGIN:STANDARD
TZOFFSETFROM:+0000
TZOFFSETTO:+0000
TZNAME:UTC
DTSTART:20240101T000000
END:STANDARD
END:VTIMEZONE
BEGIN:VEVENT
DTSTART;TZID=America/Los_Angeles:20250123T100000
DTEND;TZID=America/Los_Angeles:20250123T110000
DTSTAMP:20260420T061326
CREATED:20241211T180659Z
LAST-MODIFIED:20241211T231401Z
UID:10449-1737626400-1737630000@channelfocuscommunity.net
SUMMARY:Channel Focus Webinar - How is AI impacting Channel engagement? Panelists share actual AI tactics they are using in their Channel Programs
DESCRIPTION:
URL:https://channelfocuscommunity.net/channelevent/channel-focus-webinar-how-is-ai-impacting-channel-engagement-panelists-share-actual-ai-tactics-they-are-using-in-their-channel-programs/
CATEGORIES:Community
END:VEVENT
BEGIN:VEVENT
DTSTART;VALUE=DATE:20250111
DTEND;VALUE=DATE:20250115
DTSTAMP:20260420T061326
CREATED:20250108T164132Z
LAST-MODIFIED:20250108T164132Z
UID:10776-1736553600-1736899199@channelfocuscommunity.net
SUMMARY:NRF 25
DESCRIPTION:
URL:https://channelfocuscommunity.net/channelevent/nrf-25/
END:VEVENT
BEGIN:VEVENT
DTSTART;VALUE=DATE:20250107
DTEND;VALUE=DATE:20250111
DTSTAMP:20260420T061326
CREATED:20241211T175947Z
LAST-MODIFIED:20241211T184058Z
UID:10395-1736208000-1736553599@channelfocuscommunity.net
SUMMARY:CES (Consumer Electronics Show)
DESCRIPTION:
URL:https://channelfocuscommunity.net/channelevent/ces-consumer-electronics-show/
CATEGORIES:Association
END:VEVENT
END:VCALENDAR