BEGIN:VCALENDAR
VERSION:2.0
PRODID:-//Channel Focus Community - ECPv6.15.12.2//NONSGML v1.0//EN
CALSCALE:GREGORIAN
METHOD:PUBLISH
X-WR-CALNAME:Channel Focus Community
X-ORIGINAL-URL:https://channelfocuscommunity.net
X-WR-CALDESC:Events for Channel Focus Community
REFRESH-INTERVAL;VALUE=DURATION:PT1H
X-Robots-Tag:noindex
X-PUBLISHED-TTL:PT1H
BEGIN:VTIMEZONE
TZID:America/Los_Angeles
BEGIN:DAYLIGHT
TZOFFSETFROM:-0800
TZOFFSETTO:-0700
TZNAME:PDT
DTSTART:20240310T100000
END:DAYLIGHT
BEGIN:STANDARD
TZOFFSETFROM:-0700
TZOFFSETTO:-0800
TZNAME:PST
DTSTART:20241103T090000
END:STANDARD
BEGIN:DAYLIGHT
TZOFFSETFROM:-0800
TZOFFSETTO:-0700
TZNAME:PDT
DTSTART:20250309T100000
END:DAYLIGHT
BEGIN:STANDARD
TZOFFSETFROM:-0700
TZOFFSETTO:-0800
TZNAME:PST
DTSTART:20251102T090000
END:STANDARD
BEGIN:DAYLIGHT
TZOFFSETFROM:-0800
TZOFFSETTO:-0700
TZNAME:PDT
DTSTART:20260308T100000
END:DAYLIGHT
BEGIN:STANDARD
TZOFFSETFROM:-0700
TZOFFSETTO:-0800
TZNAME:PST
DTSTART:20261101T090000
END:STANDARD
END:VTIMEZONE
BEGIN:VTIMEZONE
TZID:UTC
BEGIN:STANDARD
TZOFFSETFROM:+0000
TZOFFSETTO:+0000
TZNAME:UTC
DTSTART:20240101T000000
END:STANDARD
END:VTIMEZONE
BEGIN:VEVENT
DTSTART;TZID=America/Los_Angeles:20250626T100000
DTEND;TZID=America/Los_Angeles:20250626T110000
DTSTAMP:20260419T174650
CREATED:20241211T180714Z
LAST-MODIFIED:20241211T204817Z
UID:10452-1750932000-1750935600@channelfocuscommunity.net
SUMMARY:Channel Focus Webinar - Developing a Partner Compensation Program for Today's Eco-System World
DESCRIPTION:
URL:https://channelfocuscommunity.net/channelevent/channel-focus-webinar-developing-a-partner-compensation-program-for-todays-eco-system-world/
LOCATION:New South Wales
CATEGORIES:Community
END:VEVENT
BEGIN:VEVENT
DTSTART;VALUE=DATE:20250623
DTEND;VALUE=DATE:20250628
DTSTAMP:20260419T174650
CREATED:20250108T181502Z
LAST-MODIFIED:20250108T181502Z
UID:10808-1750636800-1751068799@channelfocuscommunity.net
SUMMARY:HPE Discover
DESCRIPTION:
URL:https://channelfocuscommunity.net/channelevent/hpe-discover/
LOCATION:New South Wales
CATEGORIES:Vendor
END:VEVENT
BEGIN:VEVENT
DTSTART;VALUE=DATE:20250623
DTEND;VALUE=DATE:20250627
DTSTAMP:20260419T174650
CREATED:20241211T180312Z
LAST-MODIFIED:20241211T204721Z
UID:10423-1750636800-1750982399@channelfocuscommunity.net
SUMMARY:CX Summit North America
DESCRIPTION:
URL:https://channelfocuscommunity.net/channelevent/cx-summit-north-america/
LOCATION:New South Wales
CATEGORIES:Analyst
END:VEVENT
BEGIN:VEVENT
DTSTART;VALUE=DATE:20250608
DTEND;VALUE=DATE:20250613
DTSTAMP:20260419T174650
CREATED:20241211T180311Z
LAST-MODIFIED:20241211T204705Z
UID:10421-1749340800-1749772799@channelfocuscommunity.net
SUMMARY:Cisco Live!
DESCRIPTION:
URL:https://channelfocuscommunity.net/channelevent/cisco-live/
LOCATION:New South Wales
CATEGORIES:Vendor
END:VEVENT
BEGIN:VEVENT
DTSTART;VALUE=DATE:20250608
DTEND;VALUE=DATE:20250611
DTSTAMP:20260419T174650
CREATED:20241211T180311Z
LAST-MODIFIED:20241211T204640Z
UID:10422-1749340800-1749599999@channelfocuscommunity.net
SUMMARY:Pax8 Beyond
DESCRIPTION:
URL:https://channelfocuscommunity.net/channelevent/pax8-beyond/
LOCATION:New South Wales
CATEGORIES:Distribution
END:VEVENT
BEGIN:VEVENT
DTSTART;VALUE=DATE:20250602
DTEND;VALUE=DATE:20250606
DTSTAMP:20260419T174650
CREATED:20241211T180205Z
LAST-MODIFIED:20241211T204613Z
UID:10419-1748822400-1749167999@channelfocuscommunity.net
SUMMARY:Snowflake Summit
DESCRIPTION:
URL:https://channelfocuscommunity.net/channelevent/snowflake-summit/
LOCATION:New South Wales
CATEGORIES:Vendor
END:VEVENT
BEGIN:VEVENT
DTSTART;VALUE=DATE:20250602
DTEND;VALUE=DATE:20250605
DTSTAMP:20260419T174650
CREATED:20241211T180311Z
LAST-MODIFIED:20241211T204554Z
UID:10420-1748822400-1749081599@channelfocuscommunity.net
SUMMARY:Gartner Marketing Symposium - Xpo
DESCRIPTION:
URL:https://channelfocuscommunity.net/channelevent/gartner-marketing-symposium-xpo/
LOCATION:New South Wales
CATEGORIES:Analyst
END:VEVENT
BEGIN:VEVENT
DTSTART;TZID=America/Los_Angeles:20250522T100000
DTEND;TZID=America/Los_Angeles:20250522T110000
DTSTAMP:20260419T174650
CREATED:20241211T180714Z
LAST-MODIFIED:20241211T204523Z
UID:10451-1747908000-1747911600@channelfocuscommunity.net
SUMMARY:Channel Focus Webinar -  Building an effective program to work with the Hyperscalers
DESCRIPTION:
URL:https://channelfocuscommunity.net/channelevent/channel-focus-webinar-building-an-effective-program-to-work-with-the-hyperscalers/
LOCATION:New South Wales
CATEGORIES:Community
END:VEVENT
BEGIN:VEVENT
DTSTART;VALUE=DATE:20250520
DTEND;VALUE=DATE:20250522
DTSTAMP:20260419T174650
CREATED:20241211T180205Z
LAST-MODIFIED:20241211T204453Z
UID:10418-1747699200-1747871999@channelfocuscommunity.net
SUMMARY:Gartner CSO & Sales Leader Conference
DESCRIPTION:
URL:https://channelfocuscommunity.net/channelevent/gartner-cso-sales-leader-conference/
LOCATION:New South Wales
CATEGORIES:Analyst
END:VEVENT
BEGIN:VEVENT
DTSTART;VALUE=DATE:20250519
DTEND;VALUE=DATE:20250523
DTSTAMP:20260419T174650
CREATED:20241211T180205Z
LAST-MODIFIED:20241211T204428Z
UID:10417-1747612800-1747958399@channelfocuscommunity.net
SUMMARY:Dell Technologies World 2025
DESCRIPTION:
URL:https://channelfocuscommunity.net/channelevent/dell-technologies-world-2025/
LOCATION:New South Wales
CATEGORIES:Vendor
END:VEVENT
BEGIN:VEVENT
DTSTART;VALUE=DATE:20250519
DTEND;VALUE=DATE:20250522
DTSTAMP:20260419T174650
CREATED:20250108T180556Z
LAST-MODIFIED:20250108T180607Z
UID:10804-1747612800-1747871999@channelfocuscommunity.net
SUMMARY:SAP Sapphire & ASUG Annual Conference
DESCRIPTION:
URL:https://channelfocuscommunity.net/channelevent/sap-sapphire-asug-annual-conference-3/
LOCATION:New South Wales
CATEGORIES:Vendor
END:VEVENT
BEGIN:VEVENT
DTSTART;VALUE=DATE:20250513
DTEND;VALUE=DATE:20250516
DTSTAMP:20260419T174650
CREATED:20241211T180205Z
LAST-MODIFIED:20241211T185011Z
UID:10416-1747094400-1747353599@channelfocuscommunity.net
SUMMARY:WOTC - Leadership Summit West
DESCRIPTION:
URL:https://channelfocuscommunity.net/channelevent/wotc-leadership-summit-west/
LOCATION:New South Wales
CATEGORIES:Media
END:VEVENT
BEGIN:VEVENT
DTSTART;VALUE=DATE:20250506
DTEND;VALUE=DATE:20250509
DTSTAMP:20260419T174650
CREATED:20241211T180205Z
LAST-MODIFIED:20241211T184934Z
UID:10415-1746489600-1746748799@channelfocuscommunity.net
SUMMARY:ServiceNow Knowledge 2025
DESCRIPTION:
URL:https://channelfocuscommunity.net/channelevent/servicenow-knowledge-2025/
LOCATION:New South Wales
CATEGORIES:Vendor
END:VEVENT
BEGIN:VEVENT
DTSTART;VALUE=DATE:20250428
DTEND;VALUE=DATE:20250502
DTSTAMP:20260419T174650
CREATED:20250108T165835Z
LAST-MODIFIED:20250108T165835Z
UID:10787-1745798400-1746143999@channelfocuscommunity.net
SUMMARY:Kaseya Connect Global
DESCRIPTION:
URL:https://channelfocuscommunity.net/channelevent/kaseya-connect-global/
LOCATION:New South Wales
CATEGORIES:Vendor
END:VEVENT
BEGIN:VEVENT
DTSTART;VALUE=DATE:20250428
DTEND;VALUE=DATE:20250502
DTSTAMP:20260419T174650
CREATED:20241211T180005Z
LAST-MODIFIED:20241211T184913Z
UID:10414-1745798400-1746143999@channelfocuscommunity.net
SUMMARY:RSA Conference
DESCRIPTION:
URL:https://channelfocuscommunity.net/channelevent/rsa-conference/
LOCATION:New South Wales
CATEGORIES:Association
END:VEVENT
BEGIN:VEVENT
DTSTART;VALUE=DATE:20250428
DTEND;VALUE=DATE:20250501
DTSTAMP:20260419T174650
CREATED:20241211T180659Z
LAST-MODIFIED:20241211T184954Z
UID:10447-1745798400-1746057599@channelfocuscommunity.net
SUMMARY:PartnerTech X
DESCRIPTION:
URL:https://channelfocuscommunity.net/channelevent/partnertech-x/
LOCATION:New South Wales
CATEGORIES:Community
END:VEVENT
BEGIN:VEVENT
DTSTART;VALUE=DATE:20250427
DTEND;VALUE=DATE:20250501
DTSTAMP:20260419T174650
CREATED:20241211T180005Z
LAST-MODIFIED:20241211T183928Z
UID:10413-1745712000-1746057599@channelfocuscommunity.net
SUMMARY:Midsize Enterprise Summit - Spring
DESCRIPTION:
URL:https://channelfocuscommunity.net/channelevent/midsize-enterprise-summit-spring/
LOCATION:New South Wales
CATEGORIES:Media
END:VEVENT
BEGIN:VEVENT
DTSTART;VALUE=DATE:20250409
DTEND;VALUE=DATE:20250412
DTSTAMP:20260419T174650
CREATED:20241211T180005Z
LAST-MODIFIED:20241211T183851Z
UID:10412-1744156800-1744415999@channelfocuscommunity.net
SUMMARY:Google Cloud Next
DESCRIPTION:
URL:https://channelfocuscommunity.net/channelevent/google-cloud-next/
LOCATION:New South Wales
CATEGORIES:Vendor
END:VEVENT
BEGIN:VEVENT
DTSTART;VALUE=DATE:20250401
DTEND;VALUE=DATE:20250404
DTSTAMP:20260419T174650
CREATED:20241211T180005Z
LAST-MODIFIED:20241211T183754Z
UID:10411-1743465600-1743724799@channelfocuscommunity.net
SUMMARY:CDW Executive SummIT
DESCRIPTION:
URL:https://channelfocuscommunity.net/channelevent/cdw-executive-summit/
LOCATION:New South Wales
CATEGORIES:Distribution
END:VEVENT
BEGIN:VEVENT
DTSTART;VALUE=DATE:20250331
DTEND;VALUE=DATE:20250404
DTSTAMP:20260419T174650
CREATED:20241211T180005Z
LAST-MODIFIED:20241211T183644Z
UID:10410-1743379200-1743724799@channelfocuscommunity.net
SUMMARY:B2B Summit North America
DESCRIPTION:
URL:https://channelfocuscommunity.net/channelevent/b2b-summit-north-america/
LOCATION:New South Wales
CATEGORIES:Analyst
END:VEVENT
BEGIN:VEVENT
DTSTART;VALUE=DATE:20250324
DTEND;VALUE=DATE:20250328
DTSTAMP:20260419T174650
CREATED:20241211T175949Z
LAST-MODIFIED:20241211T184027Z
UID:10404-1742774400-1743119999@channelfocuscommunity.net
SUMMARY:Channel Partners Conference & Expo
DESCRIPTION:
URL:https://channelfocuscommunity.net/channelevent/channel-partners-conference-expo/
LOCATION:New South Wales
CATEGORIES:Media
END:VEVENT
BEGIN:VEVENT
DTSTART;VALUE=DATE:20250319
DTEND;VALUE=DATE:20250322
DTSTAMP:20260419T174650
CREATED:20250108T170159Z
LAST-MODIFIED:20250108T170320Z
UID:10790-1742342400-1742601599@channelfocuscommunity.net
SUMMARY:SAP Sapphire & ASUG Annual Conference
DESCRIPTION:
URL:https://channelfocuscommunity.net/channelevent/sap-sapphire-asug-annual-conference-2/
LOCATION:New South Wales
CATEGORIES:Vendor
END:VEVENT
BEGIN:VEVENT
DTSTART;VALUE=DATE:20250318
DTEND;VALUE=DATE:20250321
DTSTAMP:20260419T174650
CREATED:20241211T175949Z
LAST-MODIFIED:20241211T183522Z
UID:10403-1742256000-1742515199@channelfocuscommunity.net
SUMMARY:Adobe Summit
DESCRIPTION:
URL:https://channelfocuscommunity.net/channelevent/adobe-summit/
LOCATION:New South Wales
CATEGORIES:Vendor
END:VEVENT
BEGIN:VEVENT
DTSTART;VALUE=DATE:20250317
DTEND;VALUE=DATE:20250321
DTSTAMP:20260419T174650
CREATED:20241211T175949Z
LAST-MODIFIED:20241211T184825Z
UID:10401-1742169600-1742515199@channelfocuscommunity.net
SUMMARY:Enterprise Connect
DESCRIPTION:
URL:https://channelfocuscommunity.net/channelevent/enterprise-connect/
LOCATION:New South Wales
CATEGORIES:Media
END:VEVENT
BEGIN:VEVENT
DTSTART;VALUE=DATE:20250317
DTEND;VALUE=DATE:20250321
DTSTAMP:20260419T174650
CREATED:20241211T175949Z
LAST-MODIFIED:20241211T184805Z
UID:10402-1742169600-1742515199@channelfocuscommunity.net
SUMMARY:NVIDIA GTC
DESCRIPTION:
URL:https://channelfocuscommunity.net/channelevent/nvidia-gtc/
LOCATION:New South Wales
CATEGORIES:Vendor
END:VEVENT
BEGIN:VEVENT
DTSTART;VALUE=DATE:20250317
DTEND;VALUE=DATE:20250320
DTSTAMP:20260419T174650
CREATED:20241211T175949Z
LAST-MODIFIED:20241211T184704Z
UID:10400-1742169600-1742428799@channelfocuscommunity.net
SUMMARY:Midsize Enterprise Summit - IT Security
DESCRIPTION:
URL:https://channelfocuscommunity.net/channelevent/midsize-enterprise-summit-it-security/
LOCATION:New South Wales
CATEGORIES:Media
END:VEVENT
BEGIN:VEVENT
DTSTART;TZID=America/Los_Angeles:20250306T100000
DTEND;TZID=America/Los_Angeles:20250306T110000
DTSTAMP:20260419T174650
CREATED:20241211T180714Z
LAST-MODIFIED:20241211T183404Z
UID:10450-1741255200-1741258800@channelfocuscommunity.net
SUMMARY:Channel Focus Webinar - PRM ? What are the keys to driving partner engagement and satisfaction
DESCRIPTION:
URL:https://channelfocuscommunity.net/channelevent/channel-focus-webinar-prm-what-are-the-keys-to-driving-partner-engagement-and-satisfaction/
LOCATION:New South Wales
CATEGORIES:Community
END:VEVENT
BEGIN:VEVENT
DTSTART;VALUE=DATE:20250303
DTEND;VALUE=DATE:20250307
DTSTAMP:20260419T174650
CREATED:20250108T165253Z
LAST-MODIFIED:20250108T165253Z
UID:10784-1740960000-1741305599@channelfocuscommunity.net
SUMMARY:HIMSS Global Health Conference & Exhibition
DESCRIPTION:
URL:https://channelfocuscommunity.net/channelevent/himss-global-health-conference-exhibition/
LOCATION:New South Wales
CATEGORIES:Analyst
END:VEVENT
BEGIN:VEVENT
DTSTART;VALUE=DATE:20250302
DTEND;VALUE=DATE:20250306
DTSTAMP:20260419T174650
CREATED:20241211T175948Z
LAST-MODIFIED:20241211T184647Z
UID:10399-1740873600-1741219199@channelfocuscommunity.net
SUMMARY:Xchange March
DESCRIPTION:
URL:https://channelfocuscommunity.net/channelevent/xchange-march/
LOCATION:New South Wales
CATEGORIES:Media
END:VEVENT
BEGIN:VEVENT
DTSTART;VALUE=DATE:20250225
DTEND;VALUE=DATE:20250228
DTSTAMP:20260419T174650
CREATED:20250108T165104Z
LAST-MODIFIED:20250108T165104Z
UID:10781-1740441600-1740700799@channelfocuscommunity.net
SUMMARY:F5 AppWorld
DESCRIPTION:
URL:https://channelfocuscommunity.net/channelevent/f5-appworld/
LOCATION:New South Wales
CATEGORIES:Vendor
END:VEVENT
END:VCALENDAR