BEGIN:VCALENDAR
VERSION:2.0
PRODID:-//Channel Focus Community - ECPv6.15.12.2//NONSGML v1.0//EN
CALSCALE:GREGORIAN
METHOD:PUBLISH
X-ORIGINAL-URL:https://channelfocuscommunity.net
X-WR-CALDESC:Events for Channel Focus Community
REFRESH-INTERVAL;VALUE=DURATION:PT1H
X-Robots-Tag:noindex
X-PUBLISHED-TTL:PT1H
BEGIN:VTIMEZONE
TZID:UTC
BEGIN:STANDARD
TZOFFSETFROM:+0000
TZOFFSETTO:+0000
TZNAME:UTC
DTSTART:20240101T000000
END:STANDARD
END:VTIMEZONE
BEGIN:VTIMEZONE
TZID:America/Los_Angeles
BEGIN:DAYLIGHT
TZOFFSETFROM:-0800
TZOFFSETTO:-0700
TZNAME:PDT
DTSTART:20240310T100000
END:DAYLIGHT
BEGIN:STANDARD
TZOFFSETFROM:-0700
TZOFFSETTO:-0800
TZNAME:PST
DTSTART:20241103T090000
END:STANDARD
BEGIN:DAYLIGHT
TZOFFSETFROM:-0800
TZOFFSETTO:-0700
TZNAME:PDT
DTSTART:20250309T100000
END:DAYLIGHT
BEGIN:STANDARD
TZOFFSETFROM:-0700
TZOFFSETTO:-0800
TZNAME:PST
DTSTART:20251102T090000
END:STANDARD
BEGIN:DAYLIGHT
TZOFFSETFROM:-0800
TZOFFSETTO:-0700
TZNAME:PDT
DTSTART:20260308T100000
END:DAYLIGHT
BEGIN:STANDARD
TZOFFSETFROM:-0700
TZOFFSETTO:-0800
TZNAME:PST
DTSTART:20261101T090000
END:STANDARD
END:VTIMEZONE
BEGIN:VEVENT
DTSTART;VALUE=DATE:20251006
DTEND;VALUE=DATE:20251009
DTSTAMP:20260419T123349
CREATED:20241211T180341Z
LAST-MODIFIED:20241211T205244Z
UID:10431-1759708800-1759967999@channelfocuscommunity.net
SUMMARY:Kaseya dattoCON
DESCRIPTION:
URL:https://channelfocuscommunity.net/channelevent/kaseya-dattocon/
CATEGORIES:Vendor
END:VEVENT
BEGIN:VEVENT
DTSTART;VALUE=DATE:20251006
DTEND;VALUE=DATE:20251010
DTSTAMP:20260419T123349
CREATED:20241211T180659Z
LAST-MODIFIED:20241211T205317Z
UID:10448-1759708800-1760054399@channelfocuscommunity.net
SUMMARY:Channel Focus 2025 & Women's Leadership Council
DESCRIPTION:
URL:https://channelfocuscommunity.net/channelevent/channel-focus-2025-inc-womens-leadership/
CATEGORIES:Community
END:VEVENT
BEGIN:VEVENT
DTSTART;VALUE=DATE:20251013
DTEND;VALUE=DATE:20251016
DTSTAMP:20260419T123349
CREATED:20241211T180341Z
LAST-MODIFIED:20241211T205355Z
UID:10432-1760313600-1760572799@channelfocuscommunity.net
SUMMARY:Xchange Best of Breed
DESCRIPTION:
URL:https://channelfocuscommunity.net/channelevent/xchange-best-of-breed/
CATEGORIES:Media
END:VEVENT
BEGIN:VEVENT
DTSTART;VALUE=DATE:20251013
DTEND;VALUE=DATE:20251017
DTSTAMP:20260419T123349
CREATED:20241211T180341Z
LAST-MODIFIED:20241211T205409Z
UID:10433-1760313600-1760659199@channelfocuscommunity.net
SUMMARY:Oracle
DESCRIPTION:
URL:https://channelfocuscommunity.net/channelevent/oracle/
CATEGORIES:Vendor
END:VEVENT
BEGIN:VEVENT
DTSTART;VALUE=DATE:20251013
DTEND;VALUE=DATE:20251018
DTSTAMP:20260419T123349
CREATED:20241211T180341Z
LAST-MODIFIED:20241211T205434Z
UID:10434-1760313600-1760745599@channelfocuscommunity.net
SUMMARY:GITEX Global
DESCRIPTION:
URL:https://channelfocuscommunity.net/channelevent/gitex-global/
CATEGORIES:Association
END:VEVENT
BEGIN:VEVENT
DTSTART;VALUE=DATE:20251014
DTEND;VALUE=DATE:20251017
DTSTAMP:20260419T123349
CREATED:20241211T180444Z
LAST-MODIFIED:20241211T205449Z
UID:10435-1760400000-1760659199@channelfocuscommunity.net
SUMMARY:Salesforce Dreamforce
DESCRIPTION:
URL:https://channelfocuscommunity.net/channelevent/salesforce-dreamforce/
CATEGORIES:Vendor
END:VEVENT
BEGIN:VEVENT
DTSTART;VALUE=DATE:20251019
DTEND;VALUE=DATE:20251023
DTSTAMP:20260419T123349
CREATED:20241211T180444Z
LAST-MODIFIED:20241211T205508Z
UID:10436-1760832000-1761177599@channelfocuscommunity.net
SUMMARY:Xchange NexGen
DESCRIPTION:
URL:https://channelfocuscommunity.net/channelevent/xchange-nexgen/
CATEGORIES:Media
END:VEVENT
BEGIN:VEVENT
DTSTART;VALUE=DATE:20251020
DTEND;VALUE=DATE:20251024
DTSTAMP:20260419T123349
CREATED:20241211T180444Z
LAST-MODIFIED:20241211T205520Z
UID:10437-1760918400-1761263999@channelfocuscommunity.net
SUMMARY:Gartner IT Symposium - Xpo
DESCRIPTION:
URL:https://channelfocuscommunity.net/channelevent/gartner-it-symposium-xpo/
CATEGORIES:Analyst
END:VEVENT
BEGIN:VEVENT
DTSTART;VALUE=DATE:20251026
DTEND;VALUE=DATE:20251030
DTSTAMP:20260419T123349
CREATED:20250108T181825Z
LAST-MODIFIED:20250108T181825Z
UID:10814-1761436800-1761782399@channelfocuscommunity.net
SUMMARY:Money 20/20
DESCRIPTION:
URL:https://channelfocuscommunity.net/channelevent/money-20-20/
CATEGORIES:Analyst
END:VEVENT
BEGIN:VEVENT
DTSTART;TZID=America/Los_Angeles:20251030T100000
DTEND;TZID=America/Los_Angeles:20251030T110000
DTSTAMP:20260419T123349
CREATED:20241211T180714Z
LAST-MODIFIED:20251021T192420Z
UID:10454-1761818400-1761822000@channelfocuscommunity.net
SUMMARY:CF Webinar Series: The Marketing Revolution - Using The Latest Tools to Drive More Partner Sourced Revenue
DESCRIPTION:AI\, automation\, and analytics are transforming how we market through and with partners. This session breaks down the new generation of tools driving measurable partner-sourced growth—showing you how to leverage data\, personalization\, and digital co-marketing to expand reach\, boost engagement\, and accelerate revenue across your ecosystem. \nClick here to register
URL:https://channelfocuscommunity.net/channelevent/webinar-cf-6/
CATEGORIES:Community
END:VEVENT
END:VCALENDAR